BEGIN:VCALENDAR
VERSION:2.0
CALSCALE:GREGORIAN
METHOD:PUBLISH
X-WR-TIMEZONE:Australia/Sydney
BEGIN:VTIMEZONE
TZID:Australia/Sydney
BEGIN:STANDARD
TZNAME:AEST
END:STANDARD
END:VTIMEZONE
BEGIN:VEVENT
DTSTART;TZID=Australia/Sydney:20180316T070000
DTEND;TZID=Australia/Sydney:20180316T170000
DTSTAMP:20260425T001707
UID:84
SUMMARY:BioLAB Excursion
DESCRIPTION:BioLAB&amp;nbsp; (Geelong) &amp;ndash; The Victorian BioScience Education Centre is one of six specialist science and mathematics centres in Victoria they provide educational programs to students and teachers in Victoria.&amp;nbsp; Programs are designed to engage and inspire students in science and mathematics through unique experiences in their laboratory setting.
The students in Grades 4/5 and Grade Six will be visiting the BioLAB in Geelong on Friday March 16th.
SEQUENCE:0
STATUS:CONFIRMED
TRANSP:OPAQUE
END:VEVENT
END:VCALENDAR